BEGIN:VCALENDAR
VERSION:2.0
PRODID:-//ChamberMaster//Event Calendar 2.0//EN
METHOD:PUBLISH
X-PUBLISHED-TTL:P3D
REFRESH-INTERVAL:P3D
CALSCALE:GREGORIAN
BEGIN:VEVENT
DTSTART:20260325T220000Z
DTEND:20260327T000000Z
X-MICROSOFT-CDO-ALLDAYEVENT:FALSE
SUMMARY:Auditions - Allendale Civic Theatre
DESCRIPTION:Allendale Civic Theatre auditions for children's summer performance casting ages 8-18
X-ALT-DESC;FMTTYPE=text/html:Allendale Civic Theatre auditions for children&#39\;s summer performance casting ages 8-18
LOCATION:Ceglarek Fine Arts Center
UID:e.1796.14331
SEQUENCE:3
DTSTAMP:20260424T002535Z
URL:http://allendalechamber.chambermaster.com/events/details/auditions-14331
END:VEVENT

END:VCALENDAR
