BEGIN:VCALENDAR
VERSION:2.0
PRODID:-//ChamberMaster//Event Calendar 2.0//EN
METHOD:PUBLISH
X-PUBLISHED-TTL:P3D
REFRESH-INTERVAL:P3D
CALSCALE:GREGORIAN
BEGIN:VEVENT
DTSTART:20130827T121500Z
DTEND:20130827T131500Z
X-MICROSOFT-CDO-ALLDAYEVENT:FALSE
SUMMARY:Coffee & Networking - August 2013
DESCRIPTION:People do business with people they know and trust. The best way to start building those relationships is to put a face with a name. Come out and join us for this very casual way to expand your business contacts. Thank you to our host Allendale Eye Care.
X-ALT-DESC;FMTTYPE=text/html:<span style="font-size:12pt\;">People do business with people they know and trust. The best way to start building those relationships is to put a face with a name. Come out and join us for this very casual way to expand your business contacts. Thank you to our host Allendale Eye Care.&nbsp\;</span>
LOCATION:Allendale Eye Care 11301 Commerce Road\, Suite A (Behind LaPita Fresh)
UID:e.1796.54
SEQUENCE:3
DTSTAMP:20260419T140512Z
URL:http://allendalechamber.chambermaster.com/events/details/coffee-networking-august-2013-54
END:VEVENT

END:VCALENDAR
