BEGIN:VCALENDAR
VERSION:2.0
PRODID:-//ChamberMaster//Event Calendar 2.0//EN
METHOD:PUBLISH
X-PUBLISHED-TTL:P3D
REFRESH-INTERVAL:P3D
CALSCALE:GREGORIAN
BEGIN:VEVENT
DTSTART:20131029T121500Z
DTEND:20131029T131500Z
X-MICROSOFT-CDO-ALLDAYEVENT:FALSE
SUMMARY:Coffee & Networking - October
DESCRIPTION:Join fellow Chamber members for the last Coffee & Networking of the year. The more new faces we have\, the more new connections you make.
X-ALT-DESC;FMTTYPE=text/html:Join fellow Chamber members for the last Coffee &amp\; Networking of the year. The more new faces we have\, the more new connections you make.
LOCATION:Basic PCS\, Sprint Preferred 5135 Lake Michigan Drive Next to Great Clips and Jet's Pizza
UID:e.1796.94
SEQUENCE:3
DTSTAMP:20260423T033422Z
URL:http://allendalechamber.chambermaster.com/events/details/coffee-networking-october-10-29-2013-94
END:VEVENT

END:VCALENDAR
