BEGIN:VCALENDAR
VERSION:2.0
PRODID:-//ChamberMaster//Event Calendar 2.0//EN
METHOD:PUBLISH
X-PUBLISHED-TTL:P3D
REFRESH-INTERVAL:P3D
CALSCALE:GREGORIAN
BEGIN:VEVENT
DTSTART:20180913T213000Z
DTEND:20180913T233000Z
X-MICROSOFT-CDO-ALLDAYEVENT:FALSE
SUMMARY:Multi-Chamber Wine Tasting & Networking
DESCRIPTION:Join 7 area chambers for a Wine Tasting and Networking Event!
X-ALT-DESC;FMTTYPE=text/html:Join 7 area chambers for a Wine Tasting and Networking Event!
LOCATION:Moss Ridge Golf Club 13545 Apple Avenue Ravenna\, MI 49451
UID:e.1796.8243
SEQUENCE:3
DTSTAMP:20260422T045834Z
URL:http://allendalechamber.chambermaster.com/events/details/multi-chamber-wine-tasting-networking-8243
END:VEVENT

END:VCALENDAR
